BEGIN:VCALENDAR
VERSION:2.0
PRODID:-//Alison Cook Beatty Dance - ECPv6.15.20//NONSGML v1.0//EN
CALSCALE:GREGORIAN
METHOD:PUBLISH
X-ORIGINAL-URL:https://www.alisoncookbeattydance.org
X-WR-CALDESC:Events for Alison Cook Beatty Dance
REFRESH-INTERVAL;VALUE=DURATION:PT1H
X-Robots-Tag:noindex
X-PUBLISHED-TTL:PT1H
BEGIN:VTIMEZONE
TZID:America/New_York
BEGIN:DAYLIGHT
TZOFFSETFROM:-0500
TZOFFSETTO:-0400
TZNAME:EDT
DTSTART:20230312T070000
END:DAYLIGHT
BEGIN:STANDARD
TZOFFSETFROM:-0400
TZOFFSETTO:-0500
TZNAME:EST
DTSTART:20231105T060000
END:STANDARD
BEGIN:DAYLIGHT
TZOFFSETFROM:-0500
TZOFFSETTO:-0400
TZNAME:EDT
DTSTART:20240310T070000
END:DAYLIGHT
BEGIN:STANDARD
TZOFFSETFROM:-0400
TZOFFSETTO:-0500
TZNAME:EST
DTSTART:20241103T060000
END:STANDARD
BEGIN:DAYLIGHT
TZOFFSETFROM:-0500
TZOFFSETTO:-0400
TZNAME:EDT
DTSTART:20250309T070000
END:DAYLIGHT
BEGIN:STANDARD
TZOFFSETFROM:-0400
TZOFFSETTO:-0500
TZNAME:EST
DTSTART:20251102T060000
END:STANDARD
END:VTIMEZONE
BEGIN:VEVENT
DTSTART;VALUE=DATE:20240412
DTEND;VALUE=DATE:20240415
DTSTAMP:20260423T191851
CREATED:20240312T160312Z
LAST-MODIFIED:20240312T160602Z
UID:71525-1712880000-1713139199@www.alisoncookbeattydance.org
SUMMARY:Kaatsbaan Weekend Retreat (Private Event)
DESCRIPTION:This is a private event where Alison will create a New Work on the Company
URL:https://www.alisoncookbeattydance.org/event/kaatsbaan-weekend-retreat-private-event/
CATEGORIES:Closed Event
ATTACH;FMTTYPE=image/jpeg:https://www.alisoncookbeattydance.org/wp-content/uploads/2024/03/Ez_8RAjWQAAWeY2.jpeg
END:VEVENT
END:VCALENDAR