BEGIN:VCALENDAR
VERSION:2.0
PRODID:-//Alison Cook Beatty Dance - ECPv6.15.20//NONSGML v1.0//EN
CALSCALE:GREGORIAN
METHOD:PUBLISH
X-ORIGINAL-URL:https://www.alisoncookbeattydance.org
X-WR-CALDESC:Events for Alison Cook Beatty Dance
REFRESH-INTERVAL;VALUE=DURATION:PT1H
X-Robots-Tag:noindex
X-PUBLISHED-TTL:PT1H
BEGIN:VTIMEZONE
TZID:America/New_York
BEGIN:DAYLIGHT
TZOFFSETFROM:-0500
TZOFFSETTO:-0400
TZNAME:EDT
DTSTART:20240310T070000
END:DAYLIGHT
BEGIN:STANDARD
TZOFFSETFROM:-0400
TZOFFSETTO:-0500
TZNAME:EST
DTSTART:20241103T060000
END:STANDARD
BEGIN:DAYLIGHT
TZOFFSETFROM:-0500
TZOFFSETTO:-0400
TZNAME:EDT
DTSTART:20250309T070000
END:DAYLIGHT
BEGIN:STANDARD
TZOFFSETFROM:-0400
TZOFFSETTO:-0500
TZNAME:EST
DTSTART:20251102T060000
END:STANDARD
BEGIN:DAYLIGHT
TZOFFSETFROM:-0500
TZOFFSETTO:-0400
TZNAME:EDT
DTSTART:20260308T070000
END:DAYLIGHT
BEGIN:STANDARD
TZOFFSETFROM:-0400
TZOFFSETTO:-0500
TZNAME:EST
DTSTART:20261101T060000
END:STANDARD
END:VTIMEZONE
BEGIN:VEVENT
DTSTART;VALUE=DATE:20250517
DTEND;VALUE=DATE:20250518
DTSTAMP:20260424T111708
CREATED:20250416T032838Z
LAST-MODIFIED:20250508T034725Z
UID:71892-1747440000-1747526399@www.alisoncookbeattydance.org
SUMMARY:Dance Parade NYC 2025
DESCRIPTION:We’re ready to take over New York City streets! 19th Annual Dance Parade and Festival happening May 17\, 2025! Join over 10\,000 dancers dancing in over 100 different styles in the world’s biggest celebration of cultural diversity! Learn more about them and our event on our website at danceparade.org! \nStep off time for the parade is 12:19 pm and we will be performing INISHLACKEN on the mainstage in Tompkins Square Park at 3:38.\nAfter the parade\, join us at DanceFest at Tompkins Square Park for 4 more hours of dance performances on several stages\, free dance lessons\, a free dance space with top deejays and music makers and so much more! \nThis is a FREE event for all. Invite all your dance friends and family! Let’s make this the BIGGEST Dance Parade and Festival yet!
URL:https://www.alisoncookbeattydance.org/event/dance-parade-nyc-2025/
LOCATION:NY
CATEGORIES:Free Event
ATTACH;FMTTYPE=image/jpeg:https://www.alisoncookbeattydance.org/wp-content/uploads/2025/04/Dance-parade-nyc-2025.jpg
END:VEVENT
END:VCALENDAR