BEGIN:VCALENDAR
VERSION:2.0
PRODID:-//Alison Cook Beatty Dance - ECPv6.15.20//NONSGML v1.0//EN
CALSCALE:GREGORIAN
METHOD:PUBLISH
X-WR-CALNAME:Alison Cook Beatty Dance
X-ORIGINAL-URL:https://www.alisoncookbeattydance.org
X-WR-CALDESC:Events for Alison Cook Beatty Dance
REFRESH-INTERVAL;VALUE=DURATION:PT1H
X-Robots-Tag:noindex
X-PUBLISHED-TTL:PT1H
BEGIN:VTIMEZONE
TZID:America/New_York
BEGIN:DAYLIGHT
TZOFFSETFROM:-0500
TZOFFSETTO:-0400
TZNAME:EDT
DTSTART:20240310T070000
END:DAYLIGHT
BEGIN:STANDARD
TZOFFSETFROM:-0400
TZOFFSETTO:-0500
TZNAME:EST
DTSTART:20241103T060000
END:STANDARD
BEGIN:DAYLIGHT
TZOFFSETFROM:-0500
TZOFFSETTO:-0400
TZNAME:EDT
DTSTART:20250309T070000
END:DAYLIGHT
BEGIN:STANDARD
TZOFFSETFROM:-0400
TZOFFSETTO:-0500
TZNAME:EST
DTSTART:20251102T060000
END:STANDARD
BEGIN:DAYLIGHT
TZOFFSETFROM:-0500
TZOFFSETTO:-0400
TZNAME:EDT
DTSTART:20260308T070000
END:DAYLIGHT
BEGIN:STANDARD
TZOFFSETFROM:-0400
TZOFFSETTO:-0500
TZNAME:EST
DTSTART:20261101T060000
END:STANDARD
END:VTIMEZONE
BEGIN:VEVENT
DTSTART;TZID=America/New_York:20250808T140000
DTEND;TZID=America/New_York:20250808T140000
DTSTAMP:20260424T020238
CREATED:20250710T112907Z
LAST-MODIFIED:20250710T112907Z
UID:72009-1754661600-1754661600@www.alisoncookbeattydance.org
SUMMARY:Quarry Dance 2025
DESCRIPTION:Live Quarry Dance performance in Rockport at Millbrook Meadow\, Frog Pond and Millbrook Pond. \nWhen: Friday\, August 8th and Saturday\, August 9th in the mid afternoon Start time is tentative \nFree and open to the public
URL:https://www.alisoncookbeattydance.org/event/quarry-dance-2025/
LOCATION:NY
CATEGORIES:Free Event
ATTACH;FMTTYPE=image/jpeg:https://www.alisoncookbeattydance.org/wp-content/uploads/2025/07/Quarry-dance-2025.jpg
END:VEVENT
BEGIN:VEVENT
DTSTART;TZID=America/New_York:20250809T140000
DTEND;TZID=America/New_York:20250809T140000
DTSTAMP:20260424T020238
CREATED:20250710T113111Z
LAST-MODIFIED:20250710T113111Z
UID:72015-1754748000-1754748000@www.alisoncookbeattydance.org
SUMMARY:Quarry Dance 2025
DESCRIPTION:Live Quarry Dance performance in Rockport at Millbrook Meadow\, Frog Pond and Millbrook Pond. \nWhen: Friday\, August 8th and Saturday\, August 9th in the mid afternoon Start time is tentative \nFree and open to the public
URL:https://www.alisoncookbeattydance.org/event/quarry-dance-2025-2/
LOCATION:NY
CATEGORIES:Free Event
ATTACH;FMTTYPE=image/jpeg:https://www.alisoncookbeattydance.org/wp-content/uploads/2025/07/Quarry-dance-2025.jpg
END:VEVENT
BEGIN:VEVENT
DTSTART;TZID=America/New_York:20250823T140000
DTEND;TZID=America/New_York:20250823T200000
DTSTAMP:20260424T020238
CREATED:20250710T114136Z
LAST-MODIFIED:20250710T114136Z
UID:72026-1755957600-1755979200@www.alisoncookbeattydance.org
SUMMARY:Hartford Dance Festival
DESCRIPTION:The company will be performing at Hartford Dance Festival on Saturday\, August 23rd 2025 at Bushnell Park. \nFree admission
URL:https://www.alisoncookbeattydance.org/event/hartford-dance-festival-3/
LOCATION:Bushnell Park\, Bushnell Park\, Hartford\, CT\, 06103\, United States
CATEGORIES:Free Event
ATTACH;FMTTYPE=image/jpeg:https://www.alisoncookbeattydance.org/wp-content/uploads/2025/07/IMG_3868.jpg
END:VEVENT
END:VCALENDAR