BEGIN:VCALENDAR
VERSION:2.0
PRODID:-//Alison Cook Beatty Dance - ECPv6.15.20//NONSGML v1.0//EN
CALSCALE:GREGORIAN
METHOD:PUBLISH
X-WR-CALNAME:Alison Cook Beatty Dance
X-ORIGINAL-URL:https://www.alisoncookbeattydance.org
X-WR-CALDESC:Events for Alison Cook Beatty Dance
REFRESH-INTERVAL;VALUE=DURATION:PT1H
X-Robots-Tag:noindex
X-PUBLISHED-TTL:PT1H
BEGIN:VTIMEZONE
TZID:America/New_York
BEGIN:DAYLIGHT
TZOFFSETFROM:-0500
TZOFFSETTO:-0400
TZNAME:EDT
DTSTART:20250309T070000
END:DAYLIGHT
BEGIN:STANDARD
TZOFFSETFROM:-0400
TZOFFSETTO:-0500
TZNAME:EST
DTSTART:20251102T060000
END:STANDARD
BEGIN:DAYLIGHT
TZOFFSETFROM:-0500
TZOFFSETTO:-0400
TZNAME:EDT
DTSTART:20260308T070000
END:DAYLIGHT
BEGIN:STANDARD
TZOFFSETFROM:-0400
TZOFFSETTO:-0500
TZNAME:EST
DTSTART:20261101T060000
END:STANDARD
BEGIN:DAYLIGHT
TZOFFSETFROM:-0500
TZOFFSETTO:-0400
TZNAME:EDT
DTSTART:20270314T070000
END:DAYLIGHT
BEGIN:STANDARD
TZOFFSETFROM:-0400
TZOFFSETTO:-0500
TZNAME:EST
DTSTART:20271107T060000
END:STANDARD
END:VTIMEZONE
BEGIN:VEVENT
DTSTART;TZID=America/New_York:20260516T000000
DTEND;TZID=America/New_York:20260516T000000
DTSTAMP:20260423T134914
CREATED:20260420T071835Z
LAST-MODIFIED:20260420T071835Z
UID:72242-1778889600-1778889600@www.alisoncookbeattydance.org
SUMMARY:Dance Parade 2026
DESCRIPTION:[vc_row][vc_column width=”1/1″][vc_column_text uncode_shortcode_id=”129129″]\nWe’re ready to take over New York City streets! 20th Annual Dance Parade and Festival happening May 16\, 2026! Join over 10\,000 dancers performing in over 100 different styles in the world’s biggest celebration of cultural diversity! Learn more about them and our event at danceparade.org!\nYou can catch ACBD dancing in the parade and we will be performing HER(É) on the mainstage in Tompkins Square Park.\nAfter the parade\, join us at DanceFest in Tompkins Square Park for 4 more hours of dance performances on several stages\, free dance lessons\, a free dance space with top deejays and music makers and so much more! \nThis is a FREE event for all. Invite all your dance friends and family! Let’s make this the BIGGEST Dance Parade and Festival yet!\n[/vc_column_text][/vc_column][/vc_row]
URL:https://www.alisoncookbeattydance.org/event/dance-parade-2026/
LOCATION:Tompkins Square Park\, E 10th Street\, New York\, NY\, 10009\, United States
CATEGORIES:Free Event
ATTACH;FMTTYPE=image/jpeg:https://www.alisoncookbeattydance.org/wp-content/uploads/2026/04/Dance-Parade-2026-Logo-Graphic-with20.jpg
END:VEVENT
END:VCALENDAR