BEGIN:VCALENDAR
VERSION:2.0
PRODID:-//Alison Cook Beatty Dance - ECPv6.15.20//NONSGML v1.0//EN
CALSCALE:GREGORIAN
METHOD:PUBLISH
X-ORIGINAL-URL:https://www.alisoncookbeattydance.org
X-WR-CALDESC:Events for Alison Cook Beatty Dance
REFRESH-INTERVAL;VALUE=DURATION:PT1H
X-Robots-Tag:noindex
X-PUBLISHED-TTL:PT1H
BEGIN:VTIMEZONE
TZID:America/New_York
BEGIN:DAYLIGHT
TZOFFSETFROM:-0500
TZOFFSETTO:-0400
TZNAME:EDT
DTSTART:20250309T070000
END:DAYLIGHT
BEGIN:STANDARD
TZOFFSETFROM:-0400
TZOFFSETTO:-0500
TZNAME:EST
DTSTART:20251102T060000
END:STANDARD
BEGIN:DAYLIGHT
TZOFFSETFROM:-0500
TZOFFSETTO:-0400
TZNAME:EDT
DTSTART:20260308T070000
END:DAYLIGHT
BEGIN:STANDARD
TZOFFSETFROM:-0400
TZOFFSETTO:-0500
TZNAME:EST
DTSTART:20261101T060000
END:STANDARD
BEGIN:DAYLIGHT
TZOFFSETFROM:-0500
TZOFFSETTO:-0400
TZNAME:EDT
DTSTART:20270314T070000
END:DAYLIGHT
BEGIN:STANDARD
TZOFFSETFROM:-0400
TZOFFSETTO:-0500
TZNAME:EST
DTSTART:20271107T060000
END:STANDARD
END:VTIMEZONE
BEGIN:VEVENT
DTSTART;TZID=America/New_York:20260411T200000
DTEND;TZID=America/New_York:20260411T200000
DTSTAMP:20260423T184913
CREATED:20260218T172232Z
LAST-MODIFIED:20260316T012817Z
UID:72215-1775937600-1775937600@www.alisoncookbeattydance.org
SUMMARY:An Evening Of Modern Dance with Alison Cook Beatty Dance — April 10th and 11th 2026
DESCRIPTION:[vc_row][vc_column width=”1/1″][vc_column_text uncode_shortcode_id=”870737″]\nTHEATER FOR THE NEW CITY AND EXECUTIVE DIRECTOR CRYSTAL FIELD Present An Evening Of Modern Dance with ALISON COOK BEATTY DANCE\n\nSpring Season 2026\nTheater for the New City\n155 1st Avenue\n(between 9th and 10th Street)\nNew York\, NY 10003\n\nApril 10 & 11\, 2026 | 8:00 PM\n\nThe ticket link for the April shows https://ci.ovationtix.com/35441/production/1266392\n\nA short Q&A with Alison and the dancers will follow each performance and a silent auction will begin before the performance in the lobby.\n\n\nTwo Distinct Programs\n\nPROGRAM A\nRitual\, Loss\, and Collective Memory\nApprox. 85 minutes (including intermission)\n\nPASTORAL (2000)\nMusic: George Frideric Handel\, Water Music (Suite No. 3 in G Major: Lento)\nDancers: Maddie Burnett \, Ioanna Ioannides\, Ava Trochiano (Understudy Chynna Holder)\nPremiered at The Boston Conservatory of Music\, Pastoral reflects Alison Cook-Beatty’s early choreographic voice and her enduring connection to musicality\, lyricism\, and the healing presence of nature.\n\nMURMURATION (excerpt) (2016)\nMusic: Ottorino Respighi\, Gli Uccelli (The Birds)\nDancers: Maddie Burnett\, Ioanna Ioannides / Chynna Holder\,\nAva Trochiano\, Facundo Ferreyra\, Marcos Antonio\, Owen Lunsford\, and Rayan Le Curieux-Durival\nInspired by the aerial ballet of starlings\, Murmuration embodies collective instinct\, tension\, and unity through shifting flock-like formations.\n\nHER(É) (NYC Premiere)\nMusic: Nils Frahm & Jlin\nDancers: Owen Lunsford\, Rayan Le Curieux-Durival\, Ioanna Ioannides\, Ava Trochiano\, Chynna Holder\, Facundo Ferreyra\, Maddie Burnett\, and Marcos Antonio\nInspired by CHEKHOV’S GUN\, the dramatic principle that if a gun appears in Act I it must fire by Act III\, this contemporary work examines invisible boundaries\, behavioral adaptation\, and quiet consequence.\n\nIntermission\n\nBANSHEE’S LAMENTATION (2013)\nMusic: Carson Cooman\nDancers: Maddie Burnett\, Ava Trochiano\, Ioanna Ioannides\,\nRayan Le Curieux-Durival and Facundo Ferreyra\nPremiered at The 92nd Street Y\, this powerful work draws from Irish folklore and explores grief\, memory\, and feminine resilience.\n\nTRANSFORMATION & EMPOWERMENT (2025)\nMusic: Philip Glass\, Ludovico Einaudi\, Michael Nyman\, The Cinematic Orchestra\nDancers: Maddie Burnett\, Ioanna Ioannides\, and Ava Trochiano\nUnderstudy: Chynna Holder\nPuppetry: Dan Potter with assistance from Daniel George Cook\nAn intimate exploration of restoration and solidarity\, incorporating bird puppetry as symbols of release and collective uplift.\n\nSILENTIUM (from Tintinnabuli)\nMusic: Arvo Pärt\nDancers: Ioanna Ioannides\, Facundo Ferreyra\, Maddie Burnett\,\nAva Trochiano\, and Chynna Holder\nUnderstudy: Owen Lunsford\nOriginally premiered at The Joyce Theater in 2012 and commissioned by Ballet Next\, this excerpt offers a contemplative moment of spiritual stillness and communion.\n\nPROGRAM B\nBelief\, Control\, and Resistance\nApprox. 76 minutes (including intermission)\n\nHER(É)\nMusic: Nils Frahm & Jlin\nDancers: Owen Lunsford\, Rayan Le Curieux-Durival\, Ioanna Ioannides\, Ava Trochiano\, Chynna Holder\, Marcos Antonio\, Facundo Ferreyra and Maddie Burnett\n\nTOP HEAVY (World Premiere)\nMusic: Claude Debussy\, CakeWalk\nDancers: Owen Lunsford\, Ava Trochiano\, Facundo Ferreyra\, and Ioanna Ioannides\nA sharp\, high-energy quartet investigating imbalance\, collapse\, and recovery. The dancers teeter and fall from their center\, repeatedly attempting to regain composure\, revealing the fragility beneath external control.\n\nPASTORAL (2000)\nMusic: George Frideric Handel\nDancers: Maddie Burnett\, Ioanna Ioannides\, Ava Trochiano\n\nMURMURATION (excerpt) (2016)\nMusic: Ottorino Respighi\nDancers: Maddie Burnett\, Ioanna Ioannides / Chynna Holder\,\nAva Trochiano\, Facundo Ferreyra\, Marcos Antonio\, Owen Lunsford\, and Rayan Le Curieux-Durival\nIntermission\nMANIFESTATIONS (2016)\nMusic: John Adams\, Shaker Loops\nDancers: Rayan Le Curieux-Durival\, Facundo Ferreyra\, Owen Lunsford\, Ava Trochiano\, Maddie Burnett\, Ioanna Ioannides\,\nChynna Holder\, and Marcos Antonio\n\nTRANSFORMATION & EMPOWERMENT (2025)\nMusic: Philip Glass\, Ludovico Einaudi\, Michael Nyman\, The Cinematic Orchestra\nDancers: Ioanna Ioannides\, Ava Trochiano\, Maddie Burnett\nUnderstudy: Chynna Holder\n\n[/vc_column_text][/vc_column][/vc_row]
URL:https://www.alisoncookbeattydance.org/event/an-evening-of-modern-dance-with-alison-cook-beatty-dance-2/
LOCATION:Theater for the New City\, 155 1st Ave\, New York\, NY\, 10003\, United States
CATEGORIES:Performance
ATTACH;FMTTYPE=image/jpeg:https://www.alisoncookbeattydance.org/wp-content/uploads/2026/02/An-evening-of-Modern-Dance.jpg
END:VEVENT
END:VCALENDAR