BEGIN:VCALENDAR
VERSION:2.0
PRODID:-//Alison Cook Beatty Dance - ECPv6.15.20//NONSGML v1.0//EN
CALSCALE:GREGORIAN
METHOD:PUBLISH
X-ORIGINAL-URL:https://www.alisoncookbeattydance.org
X-WR-CALDESC:Events for Alison Cook Beatty Dance
REFRESH-INTERVAL;VALUE=DURATION:PT1H
X-Robots-Tag:noindex
X-PUBLISHED-TTL:PT1H
BEGIN:VTIMEZONE
TZID:America/New_York
BEGIN:DAYLIGHT
TZOFFSETFROM:-0500
TZOFFSETTO:-0400
TZNAME:EDT
DTSTART:20190310T070000
END:DAYLIGHT
BEGIN:STANDARD
TZOFFSETFROM:-0400
TZOFFSETTO:-0500
TZNAME:EST
DTSTART:20191103T060000
END:STANDARD
BEGIN:DAYLIGHT
TZOFFSETFROM:-0500
TZOFFSETTO:-0400
TZNAME:EDT
DTSTART:20200308T070000
END:DAYLIGHT
BEGIN:STANDARD
TZOFFSETFROM:-0400
TZOFFSETTO:-0500
TZNAME:EST
DTSTART:20201101T060000
END:STANDARD
BEGIN:DAYLIGHT
TZOFFSETFROM:-0500
TZOFFSETTO:-0400
TZNAME:EDT
DTSTART:20210314T070000
END:DAYLIGHT
BEGIN:STANDARD
TZOFFSETFROM:-0400
TZOFFSETTO:-0500
TZNAME:EST
DTSTART:20211107T060000
END:STANDARD
BEGIN:DAYLIGHT
TZOFFSETFROM:-0500
TZOFFSETTO:-0400
TZNAME:EDT
DTSTART:20220313T070000
END:DAYLIGHT
BEGIN:STANDARD
TZOFFSETFROM:-0400
TZOFFSETTO:-0500
TZNAME:EST
DTSTART:20221106T060000
END:STANDARD
BEGIN:DAYLIGHT
TZOFFSETFROM:-0500
TZOFFSETTO:-0400
TZNAME:EDT
DTSTART:20230312T070000
END:DAYLIGHT
BEGIN:STANDARD
TZOFFSETFROM:-0400
TZOFFSETTO:-0500
TZNAME:EST
DTSTART:20231105T060000
END:STANDARD
BEGIN:DAYLIGHT
TZOFFSETFROM:-0500
TZOFFSETTO:-0400
TZNAME:EDT
DTSTART:20240310T070000
END:DAYLIGHT
BEGIN:STANDARD
TZOFFSETFROM:-0400
TZOFFSETTO:-0500
TZNAME:EST
DTSTART:20241103T060000
END:STANDARD
BEGIN:DAYLIGHT
TZOFFSETFROM:-0500
TZOFFSETTO:-0400
TZNAME:EDT
DTSTART:20250309T070000
END:DAYLIGHT
BEGIN:STANDARD
TZOFFSETFROM:-0400
TZOFFSETTO:-0500
TZNAME:EST
DTSTART:20251102T060000
END:STANDARD
BEGIN:DAYLIGHT
TZOFFSETFROM:-0500
TZOFFSETTO:-0400
TZNAME:EDT
DTSTART:20260308T070000
END:DAYLIGHT
BEGIN:STANDARD
TZOFFSETFROM:-0400
TZOFFSETTO:-0500
TZNAME:EST
DTSTART:20261101T060000
END:STANDARD
BEGIN:DAYLIGHT
TZOFFSETFROM:-0500
TZOFFSETTO:-0400
TZNAME:EDT
DTSTART:20270314T070000
END:DAYLIGHT
BEGIN:STANDARD
TZOFFSETFROM:-0400
TZOFFSETTO:-0500
TZNAME:EST
DTSTART:20271107T060000
END:STANDARD
END:VTIMEZONE
BEGIN:VEVENT
DTSTART;TZID=America/New_York:20260411T200000
DTEND;TZID=America/New_York:20260411T200000
DTSTAMP:20260423T152026
CREATED:20260218T172232Z
LAST-MODIFIED:20260316T012817Z
UID:72215-1775937600-1775937600@www.alisoncookbeattydance.org
SUMMARY:An Evening Of Modern Dance with Alison Cook Beatty Dance — April 10th and 11th 2026
DESCRIPTION:[vc_row][vc_column width=”1/1″][vc_column_text uncode_shortcode_id=”870737″]\nTHEATER FOR THE NEW CITY AND EXECUTIVE DIRECTOR CRYSTAL FIELD Present An Evening Of Modern Dance with ALISON COOK BEATTY DANCE\n\nSpring Season 2026\nTheater for the New City\n155 1st Avenue\n(between 9th and 10th Street)\nNew York\, NY 10003\n\nApril 10 & 11\, 2026 | 8:00 PM\n\nThe ticket link for the April shows https://ci.ovationtix.com/35441/production/1266392\n\nA short Q&A with Alison and the dancers will follow each performance and a silent auction will begin before the performance in the lobby.\n\n\nTwo Distinct Programs\n\nPROGRAM A\nRitual\, Loss\, and Collective Memory\nApprox. 85 minutes (including intermission)\n\nPASTORAL (2000)\nMusic: George Frideric Handel\, Water Music (Suite No. 3 in G Major: Lento)\nDancers: Maddie Burnett \, Ioanna Ioannides\, Ava Trochiano (Understudy Chynna Holder)\nPremiered at The Boston Conservatory of Music\, Pastoral reflects Alison Cook-Beatty’s early choreographic voice and her enduring connection to musicality\, lyricism\, and the healing presence of nature.\n\nMURMURATION (excerpt) (2016)\nMusic: Ottorino Respighi\, Gli Uccelli (The Birds)\nDancers: Maddie Burnett\, Ioanna Ioannides / Chynna Holder\,\nAva Trochiano\, Facundo Ferreyra\, Marcos Antonio\, Owen Lunsford\, and Rayan Le Curieux-Durival\nInspired by the aerial ballet of starlings\, Murmuration embodies collective instinct\, tension\, and unity through shifting flock-like formations.\n\nHER(É) (NYC Premiere)\nMusic: Nils Frahm & Jlin\nDancers: Owen Lunsford\, Rayan Le Curieux-Durival\, Ioanna Ioannides\, Ava Trochiano\, Chynna Holder\, Facundo Ferreyra\, Maddie Burnett\, and Marcos Antonio\nInspired by CHEKHOV’S GUN\, the dramatic principle that if a gun appears in Act I it must fire by Act III\, this contemporary work examines invisible boundaries\, behavioral adaptation\, and quiet consequence.\n\nIntermission\n\nBANSHEE’S LAMENTATION (2013)\nMusic: Carson Cooman\nDancers: Maddie Burnett\, Ava Trochiano\, Ioanna Ioannides\,\nRayan Le Curieux-Durival and Facundo Ferreyra\nPremiered at The 92nd Street Y\, this powerful work draws from Irish folklore and explores grief\, memory\, and feminine resilience.\n\nTRANSFORMATION & EMPOWERMENT (2025)\nMusic: Philip Glass\, Ludovico Einaudi\, Michael Nyman\, The Cinematic Orchestra\nDancers: Maddie Burnett\, Ioanna Ioannides\, and Ava Trochiano\nUnderstudy: Chynna Holder\nPuppetry: Dan Potter with assistance from Daniel George Cook\nAn intimate exploration of restoration and solidarity\, incorporating bird puppetry as symbols of release and collective uplift.\n\nSILENTIUM (from Tintinnabuli)\nMusic: Arvo Pärt\nDancers: Ioanna Ioannides\, Facundo Ferreyra\, Maddie Burnett\,\nAva Trochiano\, and Chynna Holder\nUnderstudy: Owen Lunsford\nOriginally premiered at The Joyce Theater in 2012 and commissioned by Ballet Next\, this excerpt offers a contemplative moment of spiritual stillness and communion.\n\nPROGRAM B\nBelief\, Control\, and Resistance\nApprox. 76 minutes (including intermission)\n\nHER(É)\nMusic: Nils Frahm & Jlin\nDancers: Owen Lunsford\, Rayan Le Curieux-Durival\, Ioanna Ioannides\, Ava Trochiano\, Chynna Holder\, Marcos Antonio\, Facundo Ferreyra and Maddie Burnett\n\nTOP HEAVY (World Premiere)\nMusic: Claude Debussy\, CakeWalk\nDancers: Owen Lunsford\, Ava Trochiano\, Facundo Ferreyra\, and Ioanna Ioannides\nA sharp\, high-energy quartet investigating imbalance\, collapse\, and recovery. The dancers teeter and fall from their center\, repeatedly attempting to regain composure\, revealing the fragility beneath external control.\n\nPASTORAL (2000)\nMusic: George Frideric Handel\nDancers: Maddie Burnett\, Ioanna Ioannides\, Ava Trochiano\n\nMURMURATION (excerpt) (2016)\nMusic: Ottorino Respighi\nDancers: Maddie Burnett\, Ioanna Ioannides / Chynna Holder\,\nAva Trochiano\, Facundo Ferreyra\, Marcos Antonio\, Owen Lunsford\, and Rayan Le Curieux-Durival\nIntermission\nMANIFESTATIONS (2016)\nMusic: John Adams\, Shaker Loops\nDancers: Rayan Le Curieux-Durival\, Facundo Ferreyra\, Owen Lunsford\, Ava Trochiano\, Maddie Burnett\, Ioanna Ioannides\,\nChynna Holder\, and Marcos Antonio\n\nTRANSFORMATION & EMPOWERMENT (2025)\nMusic: Philip Glass\, Ludovico Einaudi\, Michael Nyman\, The Cinematic Orchestra\nDancers: Ioanna Ioannides\, Ava Trochiano\, Maddie Burnett\nUnderstudy: Chynna Holder\n\n[/vc_column_text][/vc_column][/vc_row]
URL:https://www.alisoncookbeattydance.org/event/an-evening-of-modern-dance-with-alison-cook-beatty-dance-2/
LOCATION:Theater for the New City\, 155 1st Ave\, New York\, NY\, 10003\, United States
CATEGORIES:Performance
ATTACH;FMTTYPE=image/jpeg:https://www.alisoncookbeattydance.org/wp-content/uploads/2026/02/An-evening-of-Modern-Dance.jpg
END:VEVENT
BEGIN:VEVENT
DTSTART;TZID=America/New_York:20260410T200000
DTEND;TZID=America/New_York:20260410T200000
DTSTAMP:20260423T152026
CREATED:20260218T172023Z
LAST-MODIFIED:20260316T012857Z
UID:72209-1775851200-1775851200@www.alisoncookbeattydance.org
SUMMARY:An Evening Of Modern Dance with Alison Cook Beatty Dance — April 10th and 11th 2026
DESCRIPTION:[vc_row][vc_column width=”1/1″][vc_column_text uncode_shortcode_id=”179447″]\nTHEATER FOR THE NEW CITY AND EXECUTIVE DIRECTOR CRYSTAL FIELD Present An Evening Of Modern Dance with ALISON COOK BEATTY DANCE\n\nSpring Season 2026\nTheater for the New City\n155 1st Avenue\n(between 9th and 10th Street)\nNew York\, NY 10003\n\nApril 10 & 11\, 2026 | 8:00 PM\n\nthe ticket link for the April shows https://ci.ovationtix.com/35441/production/1266392\n\nA short Q&A with Alison and the dancers will follow each performance and a silent auction will begin before the performance in the lobby.\n\n\nTwo Distinct Programs\n\nPROGRAM A\nRitual\, Loss\, and Collective Memory\nApprox. 85 minutes (including intermission)\n\nPASTORAL (2000)\nMusic: George Frideric Handel\, Water Music (Suite No. 3 in G Major: Lento)\nDancers: Maddie Burnett \, Ioanna Ioannides\, Ava Trochiano (Understudy Chynna Holder)\nPremiered at The Boston Conservatory of Music\, Pastoral reflects Alison Cook-Beatty’s early choreographic voice and her enduring connection to musicality\, lyricism\, and the healing presence of nature.\n\nMURMURATION (excerpt) (2016)\nMusic: Ottorino Respighi\, Gli Uccelli (The Birds)\nDancers: Maddie Burnett\, Ioanna Ioannides / Chynna Holder\,\nAva Trochiano\, Facundo Ferreyra\, Marcos Antonio\, Owen Lunsford\, and Rayan Le Curieux-Durival\nInspired by the aerial ballet of starlings\, Murmuration embodies collective instinct\, tension\, and unity through shifting flock-like formations.\n\nHER(É) (NYC Premiere)\nMusic: Nils Frahm & Jlin\nDancers: Owen Lunsford\, Rayan Le Curieux-Durival\, Ioanna Ioannides\, Ava Trochiano\, Chynna Holder\, Facundo Ferreyra\, Maddie Burnett\, and Marcos Antonio\nInspired by CHEKHOV’S GUN\, the dramatic principle that if a gun appears in Act I it must fire by Act III\, this contemporary work examines invisible boundaries\, behavioral adaptation\, and quiet consequence.\n\nIntermission\n\nBANSHEE’S LAMENTATION (2013)\nMusic: Carson Cooman\nDancers: Maddie Burnett\, Ava Trochiano\, Ioanna Ioannides\,\nRayan Le Curieux-Durival and Facundo Ferreyra\nPremiered at The 92nd Street Y\, this powerful work draws from Irish folklore and explores grief\, memory\, and feminine resilience.\n\nTRANSFORMATION & EMPOWERMENT (2025)\nMusic: Philip Glass\, Ludovico Einaudi\, Michael Nyman\, The Cinematic Orchestra\nDancers: Maddie Burnett\, Ioanna Ioannides\, and Ava Trochiano\nUnderstudy: Chynna Holder\nPuppetry: Dan Potter with assistance from Daniel George Cook\nAn intimate exploration of restoration and solidarity\, incorporating bird puppetry as symbols of release and collective uplift.\n\nSILENTIUM (from Tintinnabuli)\nMusic: Arvo Pärt\nDancers: Ioanna Ioannides\, Facundo Ferreyra\, Maddie Burnett\,\nAva Trochiano\, and Chynna Holder\nUnderstudy: Owen Lunsford\nOriginally premiered at The Joyce Theater in 2012 and commissioned by Ballet Next\, this excerpt offers a contemplative moment of spiritual stillness and communion.\n\nPROGRAM B\nBelief\, Control\, and Resistance\nApprox. 76 minutes (including intermission)\n\nHER(É)\nMusic: Nils Frahm & Jlin\nDancers: Owen Lunsford\, Rayan Le Curieux-Durival\, Ioanna Ioannides\, Ava Trochiano\, Chynna Holder\, Marcos Antonio\, Facundo Ferreyra and Maddie Burnett\n\nTOP HEAVY (World Premiere)\nMusic: Claude Debussy\, CakeWalk\nDancers: Owen Lunsford\, Ava Trochiano\, Facundo Ferreyra\, and Ioanna Ioannides\nA sharp\, high-energy quartet investigating imbalance\, collapse\, and recovery. The dancers teeter and fall from their center\, repeatedly attempting to regain composure\, revealing the fragility beneath external control.\n\nPASTORAL (2000)\nMusic: George Frideric Handel\nDancers: Maddie Burnett\, Ioanna Ioannides\, Ava Trochiano\n\nMURMURATION (excerpt) (2016)\nMusic: Ottorino Respighi\nDancers: Maddie Burnett\, Ioanna Ioannides / Chynna Holder\,\nAva Trochiano\, Facundo Ferreyra\, Marcos Antonio\, Owen Lunsford\, and Rayan Le Curieux-Durival\nIntermission\nMANIFESTATIONS (2016)\nMusic: John Adams\, Shaker Loops\nDancers: Rayan Le Curieux-Durival\, Facundo Ferreyra\, Owen Lunsford\, Ava Trochiano\, Maddie Burnett\, Ioanna Ioannides\,\nChynna Holder\, and Marcos Antonio\n\nTRANSFORMATION & EMPOWERMENT (2025)\nMusic: Philip Glass\, Ludovico Einaudi\, Michael Nyman\, The Cinematic Orchestra\nDancers: Ioanna Ioannides\, Ava Trochiano\, Maddie Burnett\nUnderstudy: Chynna Holder\n\n[/vc_column_text][/vc_column][/vc_row]
URL:https://www.alisoncookbeattydance.org/event/an-evening-of-modern-dance-with-alison-cook-beatty-dance/
LOCATION:Theater for the New City\, 155 1st Ave\, New York\, NY\, 10003\, United States
CATEGORIES:Performance
ATTACH;FMTTYPE=image/jpeg:https://www.alisoncookbeattydance.org/wp-content/uploads/2026/02/An-evening-of-Modern-Dance.jpg
END:VEVENT
BEGIN:VEVENT
DTSTART;TZID=America/New_York:20260206T190000
DTEND;TZID=America/New_York:20260206T190000
DTSTAMP:20260423T152026
CREATED:20260130T025517Z
LAST-MODIFIED:20260130T025549Z
UID:72139-1770404400-1770404400@www.alisoncookbeattydance.org
SUMMARY:SoloDuo Dance Festival New York
DESCRIPTION:[vc_row][vc_column width=”1/1″][vc_column_text uncode_shortcode_id=”102975″]Alison Cook Beatty Dance will be performing BIST DU BEI MIR\, THROUGH THE PANES\, on February 6th 2026 at 7 pm at Dixon Place. \nWHITE WAVE DANCE presents 10th Anniversary SoloDuo Dance Festival New York | Seoul \nFebruary 5th & 6th\, 2026 at Dixon Place \nThis year’s festival proudly presents 34 exceptional dancemakers from the New York metropolitan area\, across the United States\, and around the world—including artists from China\, Israel\, Korea\, Mexico\, Spain\, and Poland. All participating companies were selected by a distinguished panel of presenters and dance professionals\, ensuring a dynamic and diverse lineup of performances. \nTickets: https://whitewavedance.networkforgood.com/events/94938-10th-anniversary-soloduo-dance-festival-new-york-seoul[/vc_column_text][/vc_column][/vc_row]
URL:https://www.alisoncookbeattydance.org/event/soloduo-dance-festival-new-york/
LOCATION:Dixon Place\, 161A Chrystie St\, New York\, NY\, 10002\, United States
CATEGORIES:Performance
ATTACH;FMTTYPE=image/jpeg:https://www.alisoncookbeattydance.org/wp-content/uploads/2026/01/poster_board_2026_SoloDuo_Dance_Festival_New_York__Seoul_FINAL-1.jpg
END:VEVENT
BEGIN:VEVENT
DTSTART;TZID=America/New_York:20230416T140000
DTEND;TZID=America/New_York:20230416T190000
DTSTAMP:20260423T152026
CREATED:20230403T144024Z
LAST-MODIFIED:20230403T144024Z
UID:71199-1681653600-1681671600@www.alisoncookbeattydance.org
SUMMARY:Mapping the Heart
DESCRIPTION:[vc_row][vc_column width=”1/1″][vc_column_text uncode_shortcode_id=”233529″]\nFeel more inspired while elevating your sacred nature…\nJoin us for a very special\, first of its kind online event\, Mapping the Heart\, on April 16th at 2pm and 7pm ET.\nStep beyond how you experience connecting with yourself\, your body\, and your spirit.\nSee dance by Kristen Mangione\, and very special guest artists\, Alison Cook Beatty Dance.\nPlus have a chance to experience Dance Alchemy for the Soul\, a simple\,\nprofound movement meditation\, all from the comfort of your own space. \nTo learn more visit:  https://www.kristenmangionedance.com/mapping-the-heart\nWatch the Trailer: https://www.youtube.com/watch?v=ErVHRN7jrwg \nSave $5 at the checkout by using the discount code “HEARTACBDANCE”\nJoin us for this magical event of the Heart \n[/vc_column_text][/vc_column][/vc_row]
URL:https://www.alisoncookbeattydance.org/event/mapping-the-heart/
LOCATION:NY
CATEGORIES:Performance
ATTACH;FMTTYPE=image/jpeg:https://www.alisoncookbeattydance.org/wp-content/uploads/2023/04/Mapping-the-Heart-event.jpg
END:VEVENT
BEGIN:VEVENT
DTSTART;TZID=America/New_York:20230313T190000
DTEND;TZID=America/New_York:20230313T210000
DTSTAMP:20260423T152026
CREATED:20230206T002511Z
LAST-MODIFIED:20230206T002513Z
UID:71176-1678734000-1678741200@www.alisoncookbeattydance.org
SUMMARY:10th Anniversary Performance at Ailey Citigroup Theater
DESCRIPTION:[vc_row][vc_column width=”1/1″][vc_column_text uncode_shortcode_id=”201375″]We invite you back to the theater to join your fellow theater-goers\, and Alison Cook Beatty Dance supporters to celebrate ten years of dance\, enjoy new works and older favorites\, and help usher in ten more years.[/vc_column_text][vc_column_text uncode_shortcode_id=”101920″]10th Anniversary Performance \nAlison Cook Beatty Dance\nIn collaboration with The American Foundation for Suicide Prevention \nMonday\, March 13th\, at 7 p.m. \nAiley Citigroup Theater\n405 W 55th St\nNew York\, NY 10019 \nThis performance is being made possible with the generous support of the Alvin Ailey American Dance Theater\, Indie Space Fund\, Pentacle Cash Advance Fund\, and many generous individuals. \n\nTickets: $20[/vc_column_text][/vc_column][/vc_row]
URL:https://www.alisoncookbeattydance.org/event/10th-anniversary-performance-at-ailey-citigroup-theater/
LOCATION:Ailey Citigroup Theater\, Joan Weill Center for Dance\, 405 West 55th Street\, New York\, NY\, 10019\, US
CATEGORIES:Performance
ATTACH;FMTTYPE=image/jpeg:https://www.alisoncookbeattydance.org/wp-content/uploads/2023/02/poster_board_IMG_2051.jpg
END:VEVENT
BEGIN:VEVENT
DTSTART;TZID=America/New_York:20220603T193000
DTEND;TZID=America/New_York:20220603T203000
DTSTAMP:20260423T152026
CREATED:20220530T213955Z
LAST-MODIFIED:20220531T050000Z
UID:70989-1654284600-1654288200@www.alisoncookbeattydance.org
SUMMARY:An Evening with Alison Cook Beatty Dance at MAGMA
DESCRIPTION:[vc_row][vc_column width=”1/1″][vc_column_text uncode_shortcode_id=”257957″]Join the Company in Gloucester at MAGMA— Movement Arts Gloucester Massachusetts! \nFriday\, June 3rd\, 7:30 pm $20 \nBUY TICKETS: https://momence.com/s/947333 \nMAGMA— Movement Arts Gloucester Massachusetts\n11 Pleasant Street Gloucester\, MA 01930\nHandicapped accessible through the door to the right of the main entrance\, elevator in Brown’s Mall. \nJoin us for an intimate evening with NYC-based ACBDance as they share 5 works\, some excerpted\, from their current repertoire. Don’t miss this opportunity to catch this dynamic dance group! \nDancers\nGENARO FREIRE\nMADELINE KUHLKE\nMADELAINE BURNETT\nIOANNA IOANNIDES\nKAYSHA SMITH\nJACOB BLANK \nArtistic Director and Choreographer\nALISON COOK-BEATTY \nCompany Lighting Designer\nTONY MARQUES \nAbout Alison Cook-Beatty and Alison Cook Beatty Dance\nAlison Cook-Beatty attended the Boston Conservatory of Music at Berklee where she earned a BFA in Dance with high honors and was the selected recipient of the Ruth Sandholm Ambrose Scholarship Award and the Jan Veen Scholarship. She moved to New York City and danced with the Paul Taylor Dance Company and Taylor 2\, among other dance companies. In 2012\, Ms. Cook-Beatty founded ALISON COOK BEATTY DANCE\, a classically based modern dance company\, based in New York City\, whose mission is to create and share accessible and emotionally engaging dance for all. She has been commissioned by companies including Ballet Next\, Carolina Ballet Theatre\, The Joffrey Ballet School\, The Boston Conservatory of Music at Berklee\, Steffi Nossen School of Dance\, Columbia Ballet Collaborative\, New York University\, and Marymount Manhattan College. She was awarded the 2013 sjDANCEco Award for Artistic Merit. Under her direction\, the Company has grown into an artistically reputable and productive 501(c)(3) nonprofit dance company with local impact and international esteem.[/vc_column_text][/vc_column][/vc_row]
URL:https://www.alisoncookbeattydance.org/event/an-evening-with-alison-cook-beatty-dance-at-magma/
LOCATION:Movement Arts Gloucester Massachusetts (MAGMA)\, 11 Pleasant Street\, Gloucester\, MA\, 01930\, United States
CATEGORIES:Performance
ATTACH;FMTTYPE=image/png:https://www.alisoncookbeattydance.org/wp-content/uploads/2022/05/magma.png
END:VEVENT
BEGIN:VEVENT
DTSTART;TZID=America/New_York:20201003T200000
DTEND;TZID=America/New_York:20201003T210000
DTSTAMP:20260423T152026
CREATED:20200923T004724Z
LAST-MODIFIED:20200923T010507Z
UID:69962-1601755200-1601758800@www.alisoncookbeattydance.org
SUMMARY:Alison Cook Beatty Dance Virtual Performance & Gala 2020
DESCRIPTION:[vc_row][vc_column width=”1/1″][vc_row_inner][vc_column_inner width=”1/1″][vc_custom_heading]\nJoin us on Saturday\, October 3rd at 8 PM for our Virtual Performance and Gala!\n\n\n\n[/vc_custom_heading][/vc_column_inner][/vc_row_inner][vc_column_text]\n\nAlison Cook Beatty Dance will share four different works choreographed during COVID-19.\n\n\nThe Virtual Performance is FREE and open to everyone.\nThe Virtual Performance and Gala Afterparty 2020 will be on Saturday\, October 3rd\, at 8 pm EDT. The Company will share four different works that Artistic Director Alison Cook-Beatty choreographed on the dancers starting in March when COVID-19 impacted NYC. The edited and pre-recorded performance will have keynote speakers: Board President\, Mr. Gerald Appelstein\, Company dancers\, collaborating artists\, and Ms. Cook-Beatty. They will narrate the Virtual Program which will include “Pieridae\,” “From My Window To Yours” (An Excerpt)\, “In Spite of\, Because of…The Wallpaper\,” and “Central Park Field #4.”\nFollowing this virtual performance\, there will be a Live Zoom Gala with the dancers and special guests of Alison Cook Beatty Dance. Be sure to dress up for our toast. Purchase your tickets by September 21st to take advantage of the early bird special which includes a special party box!\n\n\n[/vc_column_text][vc_button button_color=”color-105898″ size=”btn-lg” border_animation=”btn-ripple-out” border_width=”0″ link=”url:https%3A%2F%2Fbit.ly%2F35rQ37R||target:%20_blank|”]Get Tickets to the Virtual Performance & Gala[/vc_button][vc_column_text]\nThis performance\, creative process\, and new work is supported\, in part\, by the Dance/NYC COVID-19 Dance Relief Fund\n[/vc_column_text][/vc_column][/vc_row]
URL:https://www.alisoncookbeattydance.org/event/virtual-performance-gala-2020/
LOCATION:Virtual Venue – Link will be sent to ticketholders
CATEGORIES:Performance,Free Event
ATTACH;FMTTYPE=image/jpeg:https://www.alisoncookbeattydance.org/wp-content/uploads/2020/09/IMG_7488.jpg
END:VEVENT
END:VCALENDAR